BEGIN:VCALENDAR
VERSION:2.0
PRODID:-//Wisconsin Rural Water Association - ECPv6.15.20//NONSGML v1.0//EN
CALSCALE:GREGORIAN
METHOD:PUBLISH
X-ORIGINAL-URL:https://www.wrwa.org
X-WR-CALDESC:Events for Wisconsin Rural Water Association
REFRESH-INTERVAL;VALUE=DURATION:PT1H
X-Robots-Tag:noindex
X-PUBLISHED-TTL:PT1H
BEGIN:VTIMEZONE
TZID:America/Chicago
BEGIN:DAYLIGHT
TZOFFSETFROM:-0600
TZOFFSETTO:-0500
TZNAME:CDT
DTSTART:20250309T080000
END:DAYLIGHT
BEGIN:STANDARD
TZOFFSETFROM:-0500
TZOFFSETTO:-0600
TZNAME:CST
DTSTART:20251102T070000
END:STANDARD
BEGIN:DAYLIGHT
TZOFFSETFROM:-0600
TZOFFSETTO:-0500
TZNAME:CDT
DTSTART:20260308T080000
END:DAYLIGHT
BEGIN:STANDARD
TZOFFSETFROM:-0500
TZOFFSETTO:-0600
TZNAME:CST
DTSTART:20261101T070000
END:STANDARD
BEGIN:DAYLIGHT
TZOFFSETFROM:-0600
TZOFFSETTO:-0500
TZNAME:CDT
DTSTART:20270314T080000
END:DAYLIGHT
BEGIN:STANDARD
TZOFFSETFROM:-0500
TZOFFSETTO:-0600
TZNAME:CST
DTSTART:20271107T070000
END:STANDARD
END:VTIMEZONE
BEGIN:VEVENT
DTSTART;TZID=America/Chicago:20260205T080000
DTEND;TZID=America/Chicago:20260205T150000
DTSTAMP:20260421T070449
CREATED:20260112T165328Z
LAST-MODIFIED:20260128T172551Z
UID:10000329-1770278400-1770303600@www.wrwa.org
SUMMARY:Small Water Systems Ops and GIS/Asset Management for Utilities (6 Municipal Water Credits or 6 OTM/NN Credits)
DESCRIPTION:THIS CLASS FULL \nSmall Water Systems Ops and GIS/Asset Management for Utilities\nFebruary 5\, 2026 ~ Chetek Fire Station 1224 Railroad Avenue\, Chetek\, WI 54728\n(6 Municipal Water Credits or 6 OTM/NN Credits)\nNo Fee \nHYBRID OPTION Class can be attended online- link to class will be emailed.\nThe room will open at 7:30 AM with the class starting promptly at 8:00 am. The class will end at 3:00pm. \n8:00 am – 9:00 am ~ The Anatomy of a Service Lateral ~ Royce Van Roekel\, A.Y. McDonald (WRWA Associate Member) \n9:00 am – Noon ~ Small Water Systems and GIS/Asset Management for Utilities ~ Tia McCarthy PE & Jon Schwichtenburg\, CBS Squared (WRWA Corporate Gold Member) \nNoon – 1:00 pm ~ Lunch (Provided) \n1:00 pm – 2:00 pm ~ LCRI Updates ~ Seth Peterson\, Lead and Copper Field Specialist\, Wisconsin Department of Natural Resources \n2:00 pm – 3:00 pm ~ Wellhouse Maintenance: VFDs to Pumps ~ Troy Simonar\, CTW Corporation (WRWA Corporate Gold Member) \n 
URL:https://www.wrwa.org/training-event/small-water-systems-ops-and-gis-asset-management-for-utilities-6-municipal-water-credits-or-6-otm-nn-credits/
LOCATION:Chetek Fire Station\, 1224 Railroad Avenue\, Chetek\, WI\, 54728\, United States
CATEGORIES:Municipal Waterworks Credits,OTM/NN Credits,Training
ORGANIZER;CN="WRWA":MAILTO:wrwa@wrwa.org
END:VEVENT
END:VCALENDAR